BEGIN:VCALENDAR
PRODID:-//punkave//apostrophe 1.x//EN
VERSION:1.0
TZ:0
BEGIN:VEVENT
CATEGORIES:MEETING
DTSTART:20100921T040000Z
DTEND:20100923T165959Z
DTSTAMP:20100915T040000Z
SUMMARY:International Peace Day
DESCRIPTION:
LOCATION:
UID:7
END:VEVENT
END:VCALENDAR