BEGIN:VCALENDAR
PRODID:-//punkave//apostrophe 1.x//EN
VERSION:1.0
TZ:0
BEGIN:VEVENT
CATEGORIES:MEETING
DTSTART:20100921T220000Z
DTEND:20100921T233000Z
DTSTAMP:20100917T040000Z
SUMMARY:Prestas Class Potluck and Workshop
DESCRIPTION:Parent Only Night!
LOCATION:
UID:13
END:VEVENT
END:VCALENDAR