BEGIN:VCALENDAR
PRODID:-//punkave//apostrophe 1.x//EN
VERSION:1.0
TZ:0
BEGIN:VEVENT
CATEGORIES:MEETING
DTSTART:20100922T230000Z
DTEND:20100923T010000Z
DTSTAMP:20100917T040000Z
SUMMARY:Auction Committee Meeting
DESCRIPTION:Everyone is invited!
LOCATION:
UID:12
END:VEVENT
END:VCALENDAR