BEGIN:VCALENDAR
PRODID:-//punkave//apostrophe 1.x//EN
VERSION:1.0
TZ:0
BEGIN:VEVENT
CATEGORIES:MEETING
DTSTART:20100923T220000Z
DTEND:20100923T233000Z
DTSTAMP:20100917T040000Z
SUMMARY:Matsukevich Class Potluck and Workshop
DESCRIPTION:Parent only night.
LOCATION:
UID:11
END:VEVENT
END:VCALENDAR