BEGIN:VCALENDAR
PRODID:-//punkave//apostrophe 1.x//EN
VERSION:1.0
TZ:0
BEGIN:VEVENT
CATEGORIES:MEETING
DTSTART:20100927T120000Z
DTEND:20100927T130000Z
DTSTAMP:20100917T040000Z
SUMMARY:Diversity Committee Meeting
DESCRIPTION:
LOCATION:
UID:15
END:VEVENT
END:VCALENDAR