BEGIN:VCALENDAR
PRODID:-//punkave//apostrophe 1.x//EN
VERSION:1.0
TZ:0
BEGIN:VEVENT
CATEGORIES:MEETING
DTSTART:20100928T121500Z
DTEND:20100928T130000Z
DTSTAMP:20100917T040000Z
SUMMARY:Heather Sundquist Coffee
DESCRIPTION:Coffee and refreshments for parents will be at 2121 Arch location on third floor.
LOCATION:
UID:16
END:VEVENT
END:VCALENDAR