BEGIN:VCALENDAR
PRODID:-//punkave//apostrophe 1.x//EN
VERSION:1.0
TZ:0
BEGIN:VEVENT
CATEGORIES:MEETING
DTSTART:20100930T121500Z
DTEND:20100930T130000Z
DTSTAMP:20100917T040000Z
SUMMARY:Michelle Nowacky Coffee
DESCRIPTION:Coffee and refreshments for parents will be at the 2121 Arch location, third floor.
LOCATION:
UID:18
END:VEVENT
END:VCALENDAR