BEGIN:VCALENDAR
PRODID:-//punkave//apostrophe 1.x//EN
VERSION:1.0
TZ:0
BEGIN:VEVENT
CATEGORIES:MEETING
DTSTART:20101002T150000Z
DTEND:20101002T180000Z
DTSTAMP:20100922T040000Z
SUMMARY:Fall Picnic
DESCRIPTION:Stay tuned in your email for directions and further info. Rain Date is Saturday, October 16.
LOCATION:
UID:20
END:VEVENT
END:VCALENDAR