BEGIN:VCALENDAR
PRODID:-//punkave//apostrophe 1.x//EN
VERSION:1.0
TZ:0
BEGIN:VEVENT
CATEGORIES:MEETING
DTSTART:20101007T121500Z
DTEND:20101007T130000Z
DTSTAMP:20100922T040000Z
SUMMARY:First Thursday Coffee with Ms. Grady
DESCRIPTION:Every First Thursday of the month, discuss a new subject in a relaxed group forum with Helena Grady, Head of School!
LOCATION:
UID:23
END:VEVENT
END:VCALENDAR