BEGIN:VCALENDAR
PRODID:-//punkave//apostrophe 1.x//EN
VERSION:1.0
TZ:0
BEGIN:VEVENT
CATEGORIES:MEETING
DTSTART:20101008T040000Z
DTEND:20101010T165959Z
DTSTAMP:20100922T040000Z
SUMMARY:SCHOOL CLOSED - Staff In Service
DESCRIPTION:School Closed - No Vacation Care Available
LOCATION:
UID:25
END:VEVENT
END:VCALENDAR