BEGIN:VCALENDAR
PRODID:-//punkave//apostrophe 1.x//EN
VERSION:1.0
TZ:0
BEGIN:VEVENT
CATEGORIES:MEETING
DTSTART:20101011T040000Z
DTEND:20101013T165959Z
DTSTAMP:20100922T040000Z
SUMMARY:SCHOOL CLOSED - Columbus Day
DESCRIPTION:School Closed in observance of Columbus Day Holiday.
LOCATION:
UID:26
END:VEVENT
END:VCALENDAR