BEGIN:VCALENDAR
PRODID:-//punkave//apostrophe 1.x//EN
VERSION:1.0
TZ:0
BEGIN:VEVENT
CATEGORIES:MEETING
DTSTART:20101012T230000Z
DTEND:20101013T003000Z
DTSTAMP:20100928T040000Z
SUMMARY:Parent Workshop: Blessings of a Skinned Knee
DESCRIPTION:Parenting Discussion Group with Tami Astorino M.Ed. Dates: October 12th, 19, and 26th Start Time: 7pm Running time: about an hour and fifteen minutes Books are available to purchase at the front desk. Book Price: $12 Limited space available*RSVP Required
LOCATION:
UID:65
END:VEVENT
END:VCALENDAR