BEGIN:VCALENDAR
PRODID:-//punkave//apostrophe 1.x//EN
VERSION:1.0
TZ:0
BEGIN:VEVENT
CATEGORIES:MEETING
DTSTART:20101014T121500Z
DTEND:20101014T130000Z
DTSTAMP:20100922T040000Z
SUMMARY:Coffee with Michelle Pysher
DESCRIPTION:Come have coffee and refreshments with Michelle Pysher!
LOCATION:
UID:27
END:VEVENT
END:VCALENDAR