BEGIN:VCALENDAR
PRODID:-//punkave//apostrophe 1.x//EN
VERSION:1.0
TZ:0
BEGIN:VEVENT
CATEGORIES:MEETING
DTSTART:20101018T230000Z
DTEND:20101019T010000Z
DTSTAMP:20100927T040000Z
SUMMARY:Board Meeting
DESCRIPTION:Board Meetings are always open to GTS Parents.
LOCATION:
UID:55
END:VEVENT
END:VCALENDAR