BEGIN:VCALENDAR
PRODID:-//punkave//apostrophe 1.x//EN
VERSION:1.0
TZ:0
BEGIN:VEVENT
CATEGORIES:MEETING
DTSTART:20101019T121500Z
DTEND:20101019T130000Z
DTSTAMP:20100927T040000Z
SUMMARY:Coffee with Jennifer Coulter
DESCRIPTION:Come have coffee and refreshments with Jennifer Coulter!
LOCATION:
UID:56
END:VEVENT
END:VCALENDAR