BEGIN:VCALENDAR
PRODID:-//punkave//apostrophe 1.x//EN
VERSION:1.0
TZ:0
BEGIN:VEVENT
CATEGORIES:MEETING
DTSTART:20101021T213000Z
DTEND:20101021T230000Z
DTSTAMP:20100927T040000Z
SUMMARY:The Kindergarten Year at GTS
DESCRIPTION:Workshop for current and next year\'s Kindergarten parents. Dinner and child care provided.
LOCATION:
UID:54
END:VEVENT
END:VCALENDAR