BEGIN:VCALENDAR
PRODID:-//punkave//apostrophe 1.x//EN
VERSION:1.0
TZ:0
BEGIN:VEVENT
CATEGORIES:MEETING
DTSTART:20101026T121500Z
DTEND:20101026T130000Z
DTSTAMP:20100928T040000Z
SUMMARY:Coffee with Anna Matsukevich
DESCRIPTION:Come have coffee and refreshments with Anna Matsukevich!
LOCATION:
UID:62
END:VEVENT
END:VCALENDAR