BEGIN:VCALENDAR
PRODID:-//punkave//apostrophe 1.x//EN
VERSION:1.0
TZ:0
BEGIN:VEVENT
CATEGORIES:MEETING
DTSTART:20101027T230000Z
DTEND:20101028T003000Z
DTSTAMP:20100928T040000Z
SUMMARY:Admissions Open House
DESCRIPTION:Parent only event, call 215-563-6368 to rsvp.
LOCATION:
UID:63
END:VEVENT
END:VCALENDAR