BEGIN:VCALENDAR
PRODID:-//punkave//apostrophe 1.x//EN
VERSION:1.0
TZ:0
BEGIN:VEVENT
CATEGORIES:MEETING
DTSTART:20101027T121500Z
DTEND:20101027T130000Z
DTSTAMP:20101015T040000Z
SUMMARY:Kindergarten Coffee
DESCRIPTION:Coffee this morning just for K parents.Topic: “Brainstorming the Application Process”. Please come with ideas, questions, frustrations, etc. Experienced parents will be on hand to answer questions!
LOCATION:
UID:136
END:VEVENT
END:VCALENDAR