BEGIN:VCALENDAR
PRODID:-//punkave//apostrophe 1.x//EN
VERSION:1.0
TZ:0
BEGIN:VEVENT
CATEGORIES:MEETING
DTSTART:20101028T121500Z
DTEND:20101028T130000Z
DTSTAMP:20100928T040000Z
SUMMARY:Coffee with Jean Prestas
DESCRIPTION:Come have coffee and refreshments with Jean Prestas!
LOCATION:
UID:64
END:VEVENT
END:VCALENDAR