BEGIN:VCALENDAR
PRODID:-//punkave//apostrophe 1.x//EN
VERSION:1.0
TZ:0
BEGIN:VEVENT
CATEGORIES:MEETING
DTSTART:20101103T040000Z
DTEND:20101117T175959Z
DTSTAMP:20101103T040000Z
SUMMARY:Thanksgiving Food Drive
DESCRIPTION:
LOCATION:
UID:218
END:VEVENT
END:VCALENDAR