BEGIN:VCALENDAR
PRODID:-//punkave//apostrophe 1.x//EN
VERSION:1.0
TZ:0
BEGIN:VEVENT
CATEGORIES:MEETING
DTSTART:20101103T220000Z
DTEND:20101103T233000Z
DTSTAMP:20101020T040000Z
SUMMARY:Toddler House Potluck and Parent Workshop
DESCRIPTION:This is a parent only evening, potluck from 6-7pm and parent workshop 7-7:30pm.
LOCATION:
UID:145
END:VEVENT
END:VCALENDAR