BEGIN:VCALENDAR
PRODID:-//punkave//apostrophe 1.x//EN
VERSION:1.0
TZ:0
BEGIN:VEVENT
CATEGORIES:MEETING
DTSTART:20101104T121500Z
DTEND:20101104T130000Z
DTSTAMP:20101012T040000Z
SUMMARY:First Thursday Coffee with Ms. Grady
DESCRIPTION:Every First Thursday of the month, discuss a new subject in a relaxed group forum with Helena Grady, Head of School! This Thursday: “Sleep & routines about getting to sleep”. Bring concerns & questions & struggles. Informal discussion with Lisa Dissinger, PhD.
LOCATION:
UID:115
END:VEVENT
END:VCALENDAR