BEGIN:VCALENDAR
PRODID:-//punkave//apostrophe 1.x//EN
VERSION:1.0
TZ:0
BEGIN:VEVENT
CATEGORIES:MEETING
DTSTART:20101105T154500Z
DTEND:20101105T160000Z
DTSTAMP:20101012T040000Z
SUMMARY:School Dismissed at 11:45
DESCRIPTION:School closes at 11:45 pm today - there are no afternoon programs or child care available.
LOCATION:
UID:116
END:VEVENT
END:VCALENDAR