BEGIN:VCALENDAR
PRODID:-//punkave//apostrophe 1.x//EN
VERSION:1.0
TZ:0
BEGIN:VEVENT
CATEGORIES:MEETING
DTSTART:20101111T000000Z
DTEND:20101111T020000Z
DTSTAMP:20101029T040000Z
SUMMARY:Auction Meeting!
DESCRIPTION:7pm in the GTS lobby. Everyone is welcome!
LOCATION:
UID:191
END:VEVENT
END:VCALENDAR