BEGIN:VCALENDAR
PRODID:-//punkave//apostrophe 1.x//EN
VERSION:1.0
TZ:0
BEGIN:VEVENT
CATEGORIES:MEETING
DTSTART:20101124T164500Z
DTEND:20101124T170000Z
DTSTAMP:20101012T040000Z
SUMMARY:School Dismisses at 11:45 - Pajama Day!
DESCRIPTION:School closes at 11:45 am today - there are no afternoon programs or child care available. It\'s also PAJAMA DAY! Wear your pajamas to school on WEDNESDAY, NOVEMBER 25! It’s a fun way to start the long weekend! Please feel free to bring a change of clothing if you feel it is necessary. Questions, give us a call or shoot Nicole an email!
LOCATION:
UID:120
END:VEVENT
END:VCALENDAR