BEGIN:VCALENDAR
PRODID:-//punkave//apostrophe 1.x//EN
VERSION:1.0
TZ:0
BEGIN:VEVENT
CATEGORIES:MEETING
DTSTART:20101125T050000Z
DTEND:20101126T230000Z
DTSTAMP:20101012T040000Z
SUMMARY:School Closed - Thanksgiving Holiday
DESCRIPTION:School is closed Thursday and Friday, 11/25-26 for the Thanksgiving Holiday. No vacation care available.
LOCATION:
UID:121
END:VEVENT
END:VCALENDAR