BEGIN:VCALENDAR
PRODID:-//punkave//apostrophe 1.x//EN
VERSION:1.0
TZ:0
BEGIN:VEVENT
CATEGORIES:MEETING
DTSTART:20101129T050000Z
DTEND:20101212T175959Z
DTSTAMP:20101122T050000Z
SUMMARY:Toy Drive
DESCRIPTION:This year\'s Toy Drive will be from November 29th to December 10th, 9:30 am!•As with previous years, we are hoping to collect new unwrapped unisex toys, books, or games•If your child attends the Toddler House, please send in gifts for children age 0-2 years•If your child attends the Primary School, please send in gifts for children age 3-6 years•Collection boxes will be placed in the alcove of the Toddler House and in the lobby of the Primary School beginning Monday November 29th
LOCATION:
UID:250
END:VEVENT
END:VCALENDAR