BEGIN:VCALENDAR
PRODID:-//punkave//apostrophe 1.x//EN
VERSION:1.0
TZ:0
BEGIN:VEVENT
CATEGORIES:MEETING
DTSTART:20101130T050000Z
DTEND:20101202T175959Z
DTSTAMP:20101101T040000Z
SUMMARY:Kim John Payne, the author of Simplicity Parenting
DESCRIPTION:The Waldorf School of Philadelphia invites our families to a public lecture on Tuesday evening, November 30th with Kim John Payne, the author of Simplicity Parenting (published 2009 by Ballantine Books). Payne will be speaking on \"The Socially Resilient Child\" focusing on what adults can do to help children who are being teased or bullied or who are bullying others.
LOCATION:
UID:203
END:VEVENT
END:VCALENDAR