BEGIN:VCALENDAR
PRODID:-//punkave//apostrophe 1.x//EN
VERSION:1.0
TZ:0
BEGIN:VEVENT
CATEGORIES:MEETING
DTSTART:20101201T050000Z
DTEND:20101203T175959Z
DTSTAMP:20101122T050000Z
SUMMARY:Sibling Applications Due
DESCRIPTION:Sibling Applications due December 1st In order to receive priority consideration for September 2011 enrollment, applications for siblings must be submitted by December 1, 2010. For more information, please contact Erika Goldberg, egoldberg@greenetowneschool.org.
LOCATION:
UID:248
END:VEVENT
END:VCALENDAR