BEGIN:VCALENDAR
PRODID:-//punkave//apostrophe 1.x//EN
VERSION:1.0
TZ:0
BEGIN:VEVENT
CATEGORIES:MEETING
DTSTART:20101202T131500Z
DTEND:20101202T140000Z
DTSTAMP:20101012T040000Z
SUMMARY:First Thursday Coffee with Ms. Grady
DESCRIPTION:Special Guest: Ms. Andi! She will talk about Movement Class. Every First Thursday of the month, discuss a new subject in a relaxed group forum with Helena Grady, Head of School!
LOCATION:
UID:122
END:VEVENT
END:VCALENDAR