BEGIN:VCALENDAR
PRODID:-//punkave//apostrophe 1.x//EN
VERSION:1.0
TZ:0
BEGIN:VEVENT
CATEGORIES:MEETING
DTSTART:20101214T000000Z
DTEND:20101213T140000Z
DTSTAMP:20101015T040000Z
SUMMARY:Board Meeting
DESCRIPTION:Board Meetings are always open to GTS Parents.
LOCATION:
UID:137
END:VEVENT
END:VCALENDAR