BEGIN:VCALENDAR
PRODID:-//punkave//apostrophe 1.x//EN
VERSION:1.0
TZ:0
BEGIN:VEVENT
CATEGORIES:MEETING
DTSTART:20101217T200000Z
DTEND:20101231T230000Z
DTSTAMP:20101015T040000Z
SUMMARY:Winter Break - School Closes at 3pm
DESCRIPTION:No Afternoon programs or vacation care Friday, Dec. 17 after 3pm. School Closed Monday, Dec. 20 through Friday, December 31. School resumes Monday, January 3. Vacation Care available Monday, December 20 through Wednesday, December 22, 8:30am to 5:30pm. On Thursday, Dec. 23 hours are 8:30am to 3pm. There is no care on Friday, Dec. 24. Space is limited, sign up required.
LOCATION:
UID:138
END:VEVENT
END:VCALENDAR