BEGIN:VCALENDAR
PRODID:-//punkave//apostrophe 1.x//EN
VERSION:1.0
TZ:0
BEGIN:VEVENT
CATEGORIES:MEETING
DTSTART:20110103T130000Z
DTEND:20110103T230000Z
DTSTAMP:20101026T040000Z
SUMMARY:Classes Resume
DESCRIPTION:Winter Break is over! Classes resume today.
LOCATION:
UID:156
END:VEVENT
END:VCALENDAR