BEGIN:VCALENDAR
PRODID:-//punkave//apostrophe 1.x//EN
VERSION:1.0
TZ:0
BEGIN:VEVENT
CATEGORIES:MEETING
DTSTART:20110111T000000Z
DTEND:20110111T020000Z
DTSTAMP:20101026T040000Z
SUMMARY:Board Meeting
DESCRIPTION:Board Meetings are always open to GTS Parents.
LOCATION:
UID:158
END:VEVENT
END:VCALENDAR