BEGIN:VCALENDAR
PRODID:-//punkave//apostrophe 1.x//EN
VERSION:1.0
TZ:0
BEGIN:VEVENT
CATEGORIES:MEETING
DTSTART:20110114T130000Z
DTEND:20110114T230000Z
DTSTAMP:20101026T040000Z
SUMMARY:School Closed: Staff In Service
DESCRIPTION:There is no child care/vacation care available.
LOCATION:
UID:160
END:VEVENT
END:VCALENDAR