BEGIN:VCALENDAR
PRODID:-//punkave//apostrophe 1.x//EN
VERSION:1.0
TZ:0
BEGIN:VEVENT
CATEGORIES:MEETING
DTSTART:20110114T230000Z
DTEND:20110115T030000Z
DTSTAMP:20110110T050000Z
SUMMARY:THE SOUND OF MUSIC - SING ALONG
DESCRIPTION:The Friend Select School LGBT Parent Group invites you to join us in Blauvelt Theatre at Friends Select School, 17th Street and the Benjamin Franklin Parkway, in front of the BIG SCREEN to sing along to the movie The Sound of Music. There will be no shushing during this screening, all are invited to belt out or sing like angels to songs like Sixteen Going on Seventeen and The Hills are Alive. Costumes encouraged! Suggested donation $3.00 a person. 5-5:45 p.m. food will be available for purchase in the Dining Hall. 6 p.m. Film begins, running time 174 minutes. There will be a 10 minute intermission.
LOCATION:
UID:324
END:VEVENT
END:VCALENDAR