BEGIN:VCALENDAR
PRODID:-//punkave//apostrophe 1.x//EN
VERSION:1.0
TZ:0
BEGIN:VEVENT
CATEGORIES:MEETING
DTSTART:20110117T130000Z
DTEND:20110117T230000Z
DTSTAMP:20101026T040000Z
SUMMARY:School Closed: MLK Day
DESCRIPTION:School closed in observance of the Martin Luther King, Jr. holiday. There is no child care/vacation care available.
LOCATION:
UID:161
END:VEVENT
END:VCALENDAR