BEGIN:VCALENDAR
PRODID:-//punkave//apostrophe 1.x//EN
VERSION:1.0
TZ:0
BEGIN:VEVENT
CATEGORIES:MEETING
DTSTART:20110120T223000Z
DTEND:20110120T233000Z
DTSTAMP:20101012T040000Z
SUMMARY:Parent - Child Classroom Visit (Younger Primary Students)*RESCHEDULED*
DESCRIPTION:Parents of 3\'s and younger 4\'s are invited to come to the classroom with their children this evening.
LOCATION:
UID:113
END:VEVENT
END:VCALENDAR