BEGIN:VCALENDAR
PRODID:-//punkave//apostrophe 1.x//EN
VERSION:1.0
TZ:0
BEGIN:VEVENT
CATEGORIES:MEETING
DTSTART:20110120T140000Z
DTEND:20110120T153000Z
DTSTAMP:20110113T050000Z
SUMMARY:Primary School Tour for Toddler Parents
DESCRIPTION:The tour will be geared towards those who are not already familiar with the Primary School, however, all moving up Toddler parents are welcome.
LOCATION:
UID:330
END:VEVENT
END:VCALENDAR