BEGIN:VCALENDAR
PRODID:-//punkave//apostrophe 1.x//EN
VERSION:1.0
TZ:0
BEGIN:VEVENT
CATEGORIES:MEETING
DTSTART:20110126T131500Z
DTEND:20110126T140000Z
DTSTAMP:20110124T050000Z
SUMMARY:K Parent to K Parent Coffee
DESCRIPTION:This is a chance for next year\'s K parents to chat with the current year\'s K parents. See you there!
LOCATION:
UID:345
END:VEVENT
END:VCALENDAR