BEGIN:VCALENDAR
PRODID:-//punkave//apostrophe 1.x//EN
VERSION:1.0
TZ:0
BEGIN:VEVENT
CATEGORIES:MEETING
DTSTART:20110127T140000Z
DTEND:20110127T170000Z
DTSTAMP:20101026T040000Z
SUMMARY:Picture Day (Primary Only)
DESCRIPTION:It\'s Picture Day! Make sure to get to school EARLY as we will start taking pics at 9am SHARP, or before if a class is ready to go! Toddlers will take pictures tomorrow (1/28), same time!
LOCATION:
UID:162
END:VEVENT
END:VCALENDAR