BEGIN:VCALENDAR
PRODID:-//punkave//apostrophe 1.x//EN
VERSION:1.0
TZ:0
BEGIN:VEVENT
CATEGORIES:MEETING
DTSTART:20110131T050000Z
DTEND:20110202T175959Z
DTSTAMP:20101026T040000Z
SUMMARY:Auction Donations Due!
DESCRIPTION:
LOCATION:
UID:175
END:VEVENT
END:VCALENDAR