BEGIN:VCALENDAR
PRODID:-//punkave//apostrophe 1.x//EN
VERSION:1.0
TZ:0
BEGIN:VEVENT
CATEGORIES:MEETING
DTSTART:20110201T131500Z
DTEND:20110201T140000Z
DTSTAMP:20101026T040000Z
SUMMARY:Coffee with Heather Sundquist
DESCRIPTION:Come have coffee and refreshments with Heather Sundquist
LOCATION:
UID:164
END:VEVENT
END:VCALENDAR