BEGIN:VCALENDAR
PRODID:-//punkave//apostrophe 1.x//EN
VERSION:1.0
TZ:0
BEGIN:VEVENT
CATEGORIES:MEETING
DTSTART:20110203T131500Z
DTEND:20110203T140000Z
DTSTAMP:20101026T040000Z
SUMMARY:Coffee with Michelle Nowacky
DESCRIPTION:Come have coffee and refreshments with Michelle Nowacky!
LOCATION:
UID:165
END:VEVENT
END:VCALENDAR