BEGIN:VCALENDAR
PRODID:-//punkave//apostrophe 1.x//EN
VERSION:1.0
TZ:0
BEGIN:VEVENT
CATEGORIES:MEETING
DTSTART:20110207T050000Z
DTEND:20110209T175959Z
DTSTAMP:20101026T040000Z
SUMMARY:Auction Ad Materials Due!
DESCRIPTION:
LOCATION:
UID:176
END:VEVENT
END:VCALENDAR