BEGIN:VCALENDAR
PRODID:-//punkave//apostrophe 1.x//EN
VERSION:1.0
TZ:0
BEGIN:VEVENT
CATEGORIES:MEETING
DTSTART:20110208T230000Z
DTEND:20110209T003000Z
DTSTAMP:20110121T050000Z
SUMMARY:“Happy, Healthy, Safe & Kind: How To Talk To Your Kids About Anything”
DESCRIPTION:Please join us at this Parent Education Diversity Workshop! “Happy, Healthy, Safe & Kind: How To Talk To Your Kids About Anything” Tuesday, February 8, 6-7:30pm. Very limited childcare available with RSVP. Presented by Opn Wyde
LOCATION:
UID:342
END:VEVENT
END:VCALENDAR