BEGIN:VCALENDAR
PRODID:-//punkave//apostrophe 1.x//EN
VERSION:1.0
TZ:0
BEGIN:VEVENT
CATEGORIES:MEETING
DTSTART:20110216T223000Z
DTEND:20110217T233000Z
DTSTAMP:20101026T040000Z
SUMMARY:Toddler House Parent/Child Visit
DESCRIPTION:Wednesday and Thursday, 2/16 and 2/17, Toddlers can bring their parents to class and show off their work!
LOCATION:
UID:168
END:VEVENT
END:VCALENDAR