BEGIN:VCALENDAR
PRODID:-//punkave//apostrophe 1.x//EN
VERSION:1.0
TZ:0
BEGIN:VEVENT
CATEGORIES:MEETING
DTSTART:20110218T164500Z
DTEND:20110218T170000Z
DTSTAMP:20101026T040000Z
SUMMARY:School Dismisses at 11:45, Staff In Service
DESCRIPTION:School closes at 11:45 pm today - there are no afternoon programs or child care available.
LOCATION:
UID:169
END:VEVENT
END:VCALENDAR