BEGIN:VCALENDAR
PRODID:-//punkave//apostrophe 1.x//EN
VERSION:1.0
TZ:0
BEGIN:VEVENT
CATEGORIES:MEETING
DTSTART:20110221T130000Z
DTEND:20110221T230000Z
DTSTAMP:20101026T040000Z
SUMMARY:School Closed: President\'s Day
DESCRIPTION:School closed today. No care available.
LOCATION:
UID:170
END:VEVENT
END:VCALENDAR